BEGIN:VCALENDAR
VERSION:2.0
PRODID:-//Tukios.com/
BEGIN:VEVENT
UID:16182e68-ce35-4793-a7ac-7adbd7722225@www.eberlefisherfuneralhome.com
DTSTAMP:20260420T211826Z
DTSTART:20260425T150000Z
DTEND:20260425T160000Z
SUMMARY:Celebration of Life
DESCRIPTION:
URL:https://www.eberlefisherfuneralhome.com/obituaries/patricia-brake-gibson
LOCATION: 1615 Cumberland Street  London OH 43140
GEO:39.9373738;-83.4086933
END:VEVENT
END:VCALENDAR