BEGIN:VCALENDAR
VERSION:2.0
PRODID:-//Tukios.com/
BEGIN:VEVENT
UID:4f154a54-7589-4b95-8183-0c1f7277365c@www.eberlefisherfuneralhome.com
DTSTAMP:20260425T014933Z
DTSTART:20260508T150000Z
DTEND:20260508T160000Z
SUMMARY:Mass
DESCRIPTION:
URL:https://www.eberlefisherfuneralhome.com/obituaries/joseph-tepe
LOCATION: 61 South Union Street  London OH 43140
GEO:39.8857078;-83.4463708
END:VEVENT
END:VCALENDAR