BEGIN:VCALENDAR
VERSION:2.0
PRODID:-//Tukios.com/
BEGIN:VEVENT
UID:70299c8f-5f78-4f47-9dee-71339d7320ec@www.eberlefisherfuneralhome.com
DTSTAMP:20260425T015413Z
DTSTART:20260508T140000Z
DTEND:20260508T150000Z
SUMMARY:Visitation
DESCRIPTION:
URL:https://www.eberlefisherfuneralhome.com/obituaries/joseph-tepe
LOCATION: 61 South Union Street  London OH 43140
GEO:39.8857078;-83.4463708
END:VEVENT
END:VCALENDAR