BEGIN:VCALENDAR
VERSION:2.0
PRODID:-//Tukios.com/
BEGIN:VEVENT
UID:3e03e821-c4a0-43a4-8c51-d52e2a163536@www.eberlefisherfuneralhome.com
DTSTAMP:20260421T182108Z
DTSTART:20260502T160000Z
DTEND:20260502T170000Z
SUMMARY:Graveside Service
DESCRIPTION:
URL:https://www.eberlefisherfuneralhome.com/obituaries/frances-mccormack-martin
LOCATION:  Ohio 323  Midway OH 43151
GEO:39.7333048;-83.4753945
END:VEVENT
END:VCALENDAR